BEGIN:VCALENDAR
VERSION:2.0
PRODID:-//pretix//Auerworld-Festival_Tickets//
BEGIN:VTIMEZONE
TZID:Europe/Berlin
BEGIN:STANDARD
DTSTART:20001029T040000
RRULE:FREQ=YEARLY;BYDAY=-1SU;BYMONTH=10
TZNAME:CET
TZOFFSETFROM:+0200
TZOFFSETTO:+0100
END:STANDARD
BEGIN:DAYLIGHT
DTSTART:20000326T030000
RRULE:FREQ=YEARLY;BYDAY=-1SU;BYMONTH=3
TZNAME:CEST
TZOFFSETFROM:+0100
TZOFFSETTO:+0200
END:DAYLIGHT
END:VTIMEZONE
BEGIN:VEVENT
UID:pretix-AWeV-aw26-0@tickets.auerworld-festival.de
DTSTART;TZID=Europe/Berlin:20260723T170000
DTEND;TZID=Europe/Berlin:20260726T150000
DESCRIPTION:Tickets: https://tickets.auerworld-festival.de/aw26/\nEinlass: 
 23.07.2026 12:00\nVeranstalter: Auerworld Festival e.V.
DTSTAMP:20260425T140614Z
LOCATION:Am Auerworldpalast 1\, 99518 Bad Sulza OT Auerstedt
SUMMARY:Auerworld Festival 2026
END:VEVENT
END:VCALENDAR
